BEGIN:VCALENDAR
PRODID:-//Calendar export
VERSION:2.0
X-WR-TIMEZONE:Etc/GMT
BEGIN:VTIMEZONE
TZID:GMT Standard Time
BEGIN:STANDARD
TZOFFSETFROM:+0000
TZOFFSETTO:+0000
END:STANDARD
END:VTIMEZONE
BEGIN:VEVENT
UID:AE7200
DTSTAMP:20260423T122100Z
SUMMARY:Praktičen uvod v svet digitalnega branja za vsakogar
CLASS:PUBLIC
DESCRIPTION:Vabljeni na brezplačno praktično izobraževanje\, namenjeno 
 vsem\, ki želi
 te spoznati sodobne načine branja in poslušanja knjig v digitalni obliki.
  \\n\\nPod vodstvom priznanih strokovnjakov\, dr. Alenke Žerovnik in dr. 
 Mateja Zapuška\, boste odkrivali svet e-bralnikov in zvočnih knjig ter pr
 idobili praktična znanja za njihovo uporabo.\\n\\nNa izobraževanju boste 
 spoznali:\\n\\n\\n priložnosti in izzive digitalnega branja\,\\n praktičn
 o uporabo e-bralnika InkBook Focus Color\,\\n poslušanje zvočnih knjig z 
 aplikacijo Audibook\,\\n reševanje najpogostejših tehničnih težav\,\\n kl
 jučne korake za samostojno uporabo e-bralnika in aplikacije Audibook.\\n\
 \n\\nBralnike za izvedbo izobraževanja bo zagotovila Javna agencija za kn
 jigo Republike Slovenije\, testne dostope do elektronskih knjig pa omogoč
 a IZUM.\\n\\nPridružite se nam in naredite korak v svet sodobnega branja!
 \\n\\nLepo vabljeni!
LOCATION:Knjižnica Domžale
STATUS:CONFIRMED
PRIORITY:1
DTSTART:20260519T150000Z
DTEND:20260519T163000Z
TRANSP:OPAQUE
END:VEVENT
END:VCALENDAR
