BEGIN:VCALENDAR
PRODID:-//Calendar export
VERSION:2.0
X-WR-TIMEZONE:Etc/GMT
BEGIN:VTIMEZONE
TZID:GMT Standard Time
BEGIN:STANDARD
TZOFFSETFROM:+0000
TZOFFSETTO:+0000
END:STANDARD
END:VTIMEZONE
BEGIN:VEVENT
UID:AE7198
DTSTAMP:20260422T111300Z
SUMMARY:Osnove fotografije za starejše uporabnike
CLASS:PUBLIC
DESCRIPTION:Fotografija je umetnost\, ki nam omogoča\, da zajamemo svet
  okoli nas in 
 ovekovečimo trenutke v času\, zato je pomembno\, da jih znamo ohraniti in
  z njimi spretno ravnati tudi v svetu računalništva.\\n\\n\\nVabljeni na 
 tečaj Osnove fotografije za starejše uporabnike\, kjer se bomo spoznali z
  osnovami obdelave fotografij ter s prenosom fotografij na računalnik.\\n
 \\n\\nTečaj bo potekal v računalniški učilnici Knjižnice Domžale.\\n\\nZa
  udeležbo je obvezna prijava preko telefona 01 724 12 04 ali preko elektr
 onske pošte matej.omahna@dom.sik.si.\\n\\nLep vabljeni.\\n\\nFoto: www.fr
 eepik.com
LOCATION:Knjižnica Domžale
STATUS:CONFIRMED
PRIORITY:1
DTSTART:20260527T080000Z
DTEND:20260527T093000Z
TRANSP:OPAQUE
END:VEVENT
END:VCALENDAR
