BEGIN:VCALENDAR
PRODID:-//Calendar export
VERSION:2.0
X-WR-TIMEZONE:Etc/GMT
BEGIN:VTIMEZONE
TZID:GMT Standard Time
BEGIN:STANDARD
TZOFFSETFROM:+0000
TZOFFSETTO:+0000
END:STANDARD
END:VTIMEZONE
BEGIN:VEVENT
UID:AE7197
DTSTAMP:20260422T111600Z
SUMMARY:Čustvena inteligenca
CLASS:PUBLIC
DESCRIPTION:Vabljeni na predavanje o čustveni inteligenci\, kjer bomo s
 pregovorili o 
 tem\, kako prepoznavanje\, razumevanje in uravnavanje čustev vpliva na ka
 kovost življenja seniorjev. Dotaknili se bomo pomena empatije\, samonadzo
 ra in socialnih spretnosti pri ohranjanju dobrih odnosov\, lažjem soočanj
 u z življenjskimi spremembami ter krepitvi duševnega zdravja.\\n\\nSpozna
 li boste kako medgeneracijsko sodelovanje v okviru projekta Dihamo z nara
 vo spodbuja povezanost\, zmanjšuje občutek osamljenosti ter krepi občutek
  pripadnosti skupnosti. Delavnica ponuja praktične usmeritve za razvoj ču
 stvene inteligence in spodbudo za aktivno\, povezano in zadovoljno staran
 je.\\n\\nDelavnico vodi: Andraž Purger\, prof. šp. vzg.\, Qigong učitelj\
 , vodja projekta Dihamo z naravo\\n\\nDruštvo Šola zdravja
LOCATION:Knjižnica Domžale
STATUS:CONFIRMED
PRIORITY:1
DTSTART:20260527T070000Z
DTEND:20260527T090000Z
TRANSP:OPAQUE
END:VEVENT
END:VCALENDAR
