BEGIN:VCALENDAR
PRODID:-//Calendar export
VERSION:2.0
X-WR-TIMEZONE:Etc/GMT
BEGIN:VTIMEZONE
TZID:GMT Standard Time
BEGIN:STANDARD
TZOFFSETFROM:+0000
TZOFFSETTO:+0000
END:STANDARD
END:VTIMEZONE
BEGIN:VEVENT
UID:AE7194
DTSTAMP:20260420T164500Z
SUMMARY:Janko Štifter: Večer poezije
CLASS:PUBLIC
DESCRIPTION:Ljubitelji lepe besede\, vljudno vabljeni na prav poseben l
 iterarni dogod
 ek\, kjer bomo gostili pesnika Janka Štifterja.\\n\\n\\nPopeljal nas bo s
 kozi bogat nabor avtorskih pesmi različnih žanrov. Večer bo preplet inter
 pretacije izbranih pesmi\, poglobljenega razgovora o pomenu zapisanih bes
 ed ter vizualnega doživetja s prikazom treh videoposnetkov pesmi.\\n\\n\\
 nVstop prost! \\nPridružite se nam na večeru\, ki bo posvečen raziskovanj
 u pesniških svetov in vpogledu v zakulisje avtorjevega ustvarjanja.\\n\\n
 \\norg.: Janko Štifter\\n \\n\\n\\nJEČANJE\\n\\n\\nProstor čaka.\\n\\n\\n
 Cvileče vrata in\\n\\nškripanje stopnic.\\n\\n\\nRoka.\\n\\nKozarec.\\n\\
 nVino.\\n\\n\\nPoznan glas korakov\,\\n\\nse usidra v prostor.\\n\\n\\nSr
 kam požirek vina.\\n\\n\\nGumbi na tvoji bluzi\\n\\nzadihajo v svobodo.\\
 n\\n\\nKrilo pade na tla\,\\n\\ngolota stegen zasije v prostor.\\n\\n\\nS
 oba ječi.\\n\\n\\nBrez ogledal.\\n\\nBrez spomina.\\n\\nLe želja telesa.\
 \n\\n\\nPobereš krilo\,\\n\\nzapneš bluzo\,\\n\\nodideš.\\n\\n\\nSrkam po
 žirek vina.\\n
LOCATION:Knjižnica Domžale
STATUS:CONFIRMED
PRIORITY:1
DTSTART:20260505T170000Z
DTEND:20260505T190000Z
TRANSP:OPAQUE
END:VEVENT
END:VCALENDAR
