BEGIN:VCALENDAR
PRODID:-//Calendar export
VERSION:2.0
X-WR-TIMEZONE:Etc/GMT
BEGIN:VTIMEZONE
TZID:GMT Standard Time
BEGIN:STANDARD
TZOFFSETFROM:+0000
TZOFFSETTO:+0000
END:STANDARD
END:VTIMEZONE
BEGIN:VEVENT
UID:AE7193
DTSTAMP:20260421T112000Z
SUMMARY:Ustvarjalnica: Na travniku
CLASS:PUBLIC
DESCRIPTION:Vse radožive in ustvarjalne otroke skupaj s starši vabimo n
 a družinsko us
 tvarjalno delavnico.\\n\\n\\nPričakujemo vas v torek\, 19. maja\, med 14.
 00 in 19.00 na Oddelku za otroke in mladino.\\n\\n\\n\\n► org.: Krajevna 
 knjižnica Ihan\\n\\nFoto: vir: www.freepik.com
STATUS:CONFIRMED
PRIORITY:1
DTSTART:20260519T120000Z
DTEND:20260519T170000Z
TRANSP:OPAQUE
END:VEVENT
END:VCALENDAR
