BEGIN:VCALENDAR
PRODID:-//Calendar export
VERSION:2.0
X-WR-TIMEZONE:Etc/GMT
BEGIN:VTIMEZONE
TZID:GMT Standard Time
BEGIN:STANDARD
TZOFFSETFROM:+0000
TZOFFSETTO:+0000
END:STANDARD
END:VTIMEZONE
BEGIN:VEVENT
UID:AE7189
DTSTAMP:20260420T151700Z
SUMMARY:Literarni večer: Igor Karlovšek
CLASS:PUBLIC
DESCRIPTION:\\nIgor Karlovšek je sicer po poklicu odvetnik\, a že več k
 ot tri desetle
 tja piše televizijske in filmske scenarije\, radijske igre in romane. Piš
 e o družbeno aktualnih stvareh\, saj se kot odvetnik vseskozi srečuje z r
 azličnimi družbenimi problemi\, z ljudmi\, ki hodijo po robu\, raznovrstn
 im kriminalom …\\n\\n\\nS svojimi zgodbami bralcu zastavlja vprašanja\, k
 ot so:\\n• Zakaj razočaramo sočloveka\, kakšni vzgibi nas vodijo v izdajo
  zaupanja nam najbližjega?\\n• Kako preboleti smrt ljubljene osebe\, kako
  živeti s praznino\, ki jo nadomesti?\\n• Kako se kažemo drugim in kako d
 ejansko živimo\, kdo smo? \\n\\n\\n\\nLiterarni večer bo potekal v okviru
  festivala Bralnice pod slamnikom. Pogovor bo vodila Bernarda Mal.\\n\\n\
 \nVstop prost!\\n\\n\\n► org.: MIŠ založba\, Krajevna knjižnica Moravče\;
  dogodek v okviru festivala Bralnice pod slamnikom\; Foto: MIŠ založba\\n
 \\n\\n\\n\\n\\n\\nČe sodelujete v projektu OKUSIMO BESEDO - bralna značka
  za odrasle\, lahko na prireditvi prejmete nalepko.\\nTisti\, ki boste po
 leg branja obiskali vsaj 3 literarne dogodke v naših knjižnicah ter s tem
  zbrali 3 nalepke\, boste prejeli dodatno nagrado. Vabljeni v našo družbo
 !
LOCATION:Krajevna knjižnica Daneta Zajca Moravče
STATUS:CONFIRMED
PRIORITY:1
DTSTART:20260508T160000Z
DTEND:20260508T190000Z
TRANSP:OPAQUE
END:VEVENT
END:VCALENDAR
