BEGIN:VCALENDAR
PRODID:-//Calendar export
VERSION:2.0
X-WR-TIMEZONE:Etc/GMT
BEGIN:VTIMEZONE
TZID:GMT Standard Time
BEGIN:STANDARD
TZOFFSETFROM:+0000
TZOFFSETTO:+0000
END:STANDARD
END:VTIMEZONE
BEGIN:VEVENT
UID:AE7186
DTSTAMP:20260425T234600Z
SUMMARY:Igralne urice: Moravče
CLASS:PUBLIC
DESCRIPTION:Na igralnih uricah želimo otrokom in staršem/dedkom in babi
 cam predstavit
 i zanimive in predvsem kakovostne didaktične igrače ter posebne igralne k
 njige\, ki so otrokom še posebej zanimive.\\n\\n\\nStarše/dedke in babice
  vabimo\, da v naši družbi preživijo prijetno igralno urico s svojimi otr
 oki/vnuki.\\n\\n\\n\\nIgralne urice potekajo vsako drugo sredo v mesecu o
 d 11.00 do 12.00.\\n\\nIgralne urice so organizirane od meseca oktobra\, 
 zaključijo pa se v mesecu maju. Vljudno vabljeni!\\n\\nVstop prost!\\n\\n
 \\n► org.: Krajevna knjižnica Moravče\\n\\nFoto: vir: www.freepik.com
LOCATION:Krajevna knjižnica Daneta Zajca Moravče
STATUS:CONFIRMED
PRIORITY:1
DTSTART:20260513T090000Z
DTEND:20260513T100000Z
TRANSP:OPAQUE
END:VEVENT
END:VCALENDAR
