BEGIN:VCALENDAR
PRODID:-//Calendar export
VERSION:2.0
X-WR-TIMEZONE:Etc/GMT
BEGIN:VTIMEZONE
TZID:GMT Standard Time
BEGIN:STANDARD
TZOFFSETFROM:+0000
TZOFFSETTO:+0000
END:STANDARD
END:VTIMEZONE
BEGIN:VEVENT
UID:AE7181
DTSTAMP:20260420T164500Z
SUMMARY:Sapramiška
CLASS:PUBLIC
DESCRIPTION:\\nSapramiška je najsrečnejša miš na svetu in to zato\, ker
  sreča spremlj
 a pogumne in hrabre. Zagotovo se prav vsak izmed nas vsaj malček boji zob
 ozdravnika. Tudi miška Sapra ima težave s svojim zobom in prijatelji ji p
 redlagajo\, da prvič v življenju obišče dr. Detelja\, zobnega zdravnika.\
 \n\\n\\nPredstava po knjigi Svetlane Makarovič otroke ne pusti ravnodušne
 . Ima številne pevske in plesne vložke z lutkami kot tudi dramskimi igral
 ci.\\n\\nOtroška igrana predstava bo potekala v Domu Antona Martina Slomš
 ka v Šentvidu pri Lukovici\, 27. maja 2026\, 17. uri.\\n\\nStarost: 3+\\n
 \\nBrezplačne vstopnice prezvamete v knjižnici Šentvid v času odprtosti k
 njižnice.\\n\\n\\n► org.: Krajevna knjižnica dr. Jakoba Zupana Šentvid\, 
 Pravljična Frtina\\n\\nFoto: vir: www.frtina.si
LOCATION:Krajevna knjižnica dr. Jakoba Zupana Šentvid
STATUS:CONFIRMED
PRIORITY:1
DTSTART:20260527T150000Z
DTEND:20260527T160000Z
TRANSP:OPAQUE
END:VEVENT
END:VCALENDAR
