BEGIN:VCALENDAR
PRODID:-//Calendar export
VERSION:2.0
X-WR-TIMEZONE:Etc/GMT
BEGIN:VTIMEZONE
TZID:GMT Standard Time
BEGIN:STANDARD
TZOFFSETFROM:+0000
TZOFFSETTO:+0000
END:STANDARD
END:VTIMEZONE
BEGIN:VEVENT
UID:AE7179
DTSTAMP:20260420T133700Z
SUMMARY:Ustvarjalnica: Na travniku
CLASS:PUBLIC
DESCRIPTION:Vse radožive in ustvarjalne otroke skupaj s starši vabimo n
 a družinsko us
 tvarjalno delavnico.\\n\\n\\nPričakujemo vas v sredo\, 20. maja\, med 14.
 00 in 19.00 na Oddelku za otroke in mladino.\\n\\n\\n\\n► org.: Krajevna 
 knjižnica dr. Jakoba Zupana Šentvid\\n\\nFoto: vir: www.freepik.com
LOCATION:Krajevna knjižnica dr. Jakoba Zupana Šentvid
STATUS:CONFIRMED
PRIORITY:1
DTSTART:20260520T120000Z
DTEND:20260520T170000Z
TRANSP:OPAQUE
END:VEVENT
END:VCALENDAR
