BEGIN:VCALENDAR
PRODID:-//Calendar export
VERSION:2.0
X-WR-TIMEZONE:Etc/GMT
BEGIN:VTIMEZONE
TZID:GMT Standard Time
BEGIN:STANDARD
TZOFFSETFROM:+0000
TZOFFSETTO:+0000
END:STANDARD
END:VTIMEZONE
BEGIN:VEVENT
UID:AE7178
DTSTAMP:20260420T151700Z
SUMMARY:Beremo z labradorko Keri
CLASS:PUBLIC
DESCRIPTION:V našo knjižnico prihaja Keri\, labradorka s pomembnim posl
 anstvom – poma
 ga slabovidnim ljudem pri vsakodnevnih opravilih. Z njo bo tudi njen last
 nik Andrej in pomočnica Urša.\\n\\n\\nVabljeni v knjižnico\, kjer se  bod
 o otroci spoznali s Keri in njenim čudovitim značajem.\\nDogodek bomo zak
 ljučili z branjem pravljice za Keri – saj ima tudi ona rada lepe zgodbe!\
 \n\\n\\n► Priporočena starost: 4+ \\n\\n\\nSkupina je številčno omejena.\
 \n\\n\\nObvezna je predhodna prijava v knjižnici ali na telefonsko števil
 ko 01 729 63 20 v času odprtosti knjižnice. \\n
LOCATION:Krajevna knjižnica dr. Jakoba Zupana Šentvid
STATUS:CONFIRMED
PRIORITY:1
DTSTART:20260507T150000Z
DTEND:20260507T160000Z
TRANSP:OPAQUE
END:VEVENT
END:VCALENDAR
