BEGIN:VCALENDAR
PRODID:-//Calendar export
VERSION:2.0
X-WR-TIMEZONE:Etc/GMT
BEGIN:VTIMEZONE
TZID:GMT Standard Time
BEGIN:STANDARD
TZOFFSETFROM:+0000
TZOFFSETTO:+0000
END:STANDARD
END:VTIMEZONE
BEGIN:VEVENT
UID:AE7170
DTSTAMP:20260420T164600Z
SUMMARY:Zbirka pravljic o pogumnih starcih in starkah
CLASS:PUBLIC
DESCRIPTION:V pripravi
LOCATION:Krajevna knjižnica Janeza Trdine Megneš
STATUS:CONFIRMED
PRIORITY:1
DTSTART:20260527T160000Z
DTEND:20260527T183000Z
TRANSP:OPAQUE
END:VEVENT
END:VCALENDAR
