BEGIN:VCALENDAR
PRODID:-//Calendar export
VERSION:2.0
X-WR-TIMEZONE:Etc/GMT
BEGIN:VTIMEZONE
TZID:GMT Standard Time
BEGIN:STANDARD
TZOFFSETFROM:+0000
TZOFFSETTO:+0000
END:STANDARD
END:VTIMEZONE
BEGIN:VEVENT
UID:AE7101
DTSTAMP:20260420T145200Z
SUMMARY:Srečanje z Matejo Gomboc
CLASS:PUBLIC
DESCRIPTION:\\nMateja Gomboc je pisateljica\, prevajalka in profesorica
 . Veselje do ž
 ivljenja izraža tudi v svojih knjigah\, tako v tistih za najmlajše kot v 
 romanih za odrasle. Ne boji se nobene teme\, niti najtežje\, ko je treba 
 tolažiti in objeti človeka v stiski\, pa tudi veselih in zabavnih ne\, sa
 j smeh poživlja in odpira poti. Za svoj roman Balada o drevesu je dobila 
 desetnico\, nagrado za najboljše mladinsko delo. \\n\\n\\n\\n\\nLiterarni
  večer bo potekal v okviru festivala Bralnice pod slamnikom.\\n\\n\\nS pi
 sateljico\, se bo pogovarjala Urška Stritar. \\n\\n\\n► org.: MIŠ založba
 \, Krajevna knjižnica Moravče\; dogodek v okviru festivala Bralnice pod s
 lamnikom\; Foto: MIŠ založba\\n\\n\\n\\n\\n\\n\\nČe sodelujete v projektu
  OKUSIMO BESEDO - bralna značka za odrasle\, lahko na prireditvi prejmete
  nalepko.\\nTisti\, ki boste poleg branja obiskali vsaj 3 litarne dogodke
  v naših knjižnicah ter s tem zbrali 3 nalepke\, boste prejeli dodatno na
 grado. Vabljeni v našo družbo!
LOCATION:Krajevna knjižnica Janeza Trdine Mengeš
STATUS:CONFIRMED
PRIORITY:1
DTSTART:20260416T170000Z
DTEND:20260416T193000Z
TRANSP:OPAQUE
END:VEVENT
END:VCALENDAR
